BEGIN:VCALENDAR
VERSION:2.0
PRODID:-//Multiple Sclerosis (MS) Information, and resources - ECPv6.15.20//NONSGML v1.0//EN
CALSCALE:GREGORIAN
METHOD:PUBLISH
X-WR-CALNAME:Multiple Sclerosis (MS) Information, and resources
X-ORIGINAL-URL:https://msviewsandnews.org
X-WR-CALDESC:Events for Multiple Sclerosis (MS) Information, and resources
REFRESH-INTERVAL;VALUE=DURATION:PT1H
X-Robots-Tag:noindex
X-PUBLISHED-TTL:PT1H
BEGIN:VTIMEZONE
TZID:America/New_York
BEGIN:DAYLIGHT
TZOFFSETFROM:-0500
TZOFFSETTO:-0400
TZNAME:EDT
DTSTART:20250309T070000
END:DAYLIGHT
BEGIN:STANDARD
TZOFFSETFROM:-0400
TZOFFSETTO:-0500
TZNAME:EST
DTSTART:20251102T060000
END:STANDARD
BEGIN:DAYLIGHT
TZOFFSETFROM:-0500
TZOFFSETTO:-0400
TZNAME:EDT
DTSTART:20260308T070000
END:DAYLIGHT
BEGIN:STANDARD
TZOFFSETFROM:-0400
TZOFFSETTO:-0500
TZNAME:EST
DTSTART:20261101T060000
END:STANDARD
BEGIN:DAYLIGHT
TZOFFSETFROM:-0500
TZOFFSETTO:-0400
TZNAME:EDT
DTSTART:20270314T070000
END:DAYLIGHT
BEGIN:STANDARD
TZOFFSETFROM:-0400
TZOFFSETTO:-0500
TZNAME:EST
DTSTART:20271107T060000
END:STANDARD
END:VTIMEZONE
BEGIN:VEVENT
DTSTART;TZID=America/New_York:20260312T183000
DTEND;TZID=America/New_York:20260312T204000
DTSTAMP:20260423T172748
CREATED:20260127T162242Z
LAST-MODIFIED:20260306T191232Z
UID:10000195-1773340200-1773348000@msviewsandnews.org
SUMMARY:(No SEATS available) Understanding Brain Health\, Exercise and MS Progression - Atlanta
DESCRIPTION:TO RSVP\, for this “In-Person” program\,\nPLEASE Click the: Orange RSVP ‘Going’ button\, showing down below:\n\n \nClick HERE to View EVENT  Flyer \n* BENEFITS of Exercise in MS\n* Understanding High-Efficacy MS treatment options\n• Learning more about B-Cell Therapies and BTK inhibitors\n• The new McDonald’s Diagnostic Criteria\n• MS progression\n• PLUS\, LET’s Talk About BRAIN HEALTH\n————————————– \nThursday\, March 12\,  2026\n5:45 ET  – Check-in\n6:30PM ET – Program Begins\nComplimentary Dinner\n………………………………………………………………………………… \nLocation: Hilton Garden Inn Atlanta Airport – Millenium Center\n2301 Sullivan Road – College Park\, GA 30337 \n=============================== \nTO RSVP\, PLEASE Click the: Orange RSVP ‘Going’ button\, Showing below. \n—— If registering for yourself and a Guest\, please make sure to click on (2) people\n— If you do not have internet\, please call (888) 871-1664 – Ext 105\n— Program limited to the Patient plus (1) Guest \nNo Walk-ins will be permitted – All must be registered in advance of the event.
URL:https://msviewsandnews.org/event/compass-atlanta/
LOCATION:Hilton Garden Inn Atlanta Airport – Millenium Center\, 2301 Sullivan Road\, College Park\, GA\, 30337\, United States
CATEGORIES:In-Person
ORGANIZER;CN="MS VIEWS AND NEWS":MAILTO:stuart@msvn.org
END:VEVENT
END:VCALENDAR