BEGIN:VCALENDAR
VERSION:2.0
PRODID:-//Multiple Sclerosis (MS) Information, and resources - ECPv6.15.20//NONSGML v1.0//EN
CALSCALE:GREGORIAN
METHOD:PUBLISH
X-WR-CALNAME:Multiple Sclerosis (MS) Information, and resources
X-ORIGINAL-URL:https://msviewsandnews.org
X-WR-CALDESC:Events for Multiple Sclerosis (MS) Information, and resources
REFRESH-INTERVAL;VALUE=DURATION:PT1H
X-Robots-Tag:noindex
X-PUBLISHED-TTL:PT1H
BEGIN:VTIMEZONE
TZID:America/Chicago
BEGIN:DAYLIGHT
TZOFFSETFROM:-0600
TZOFFSETTO:-0500
TZNAME:CDT
DTSTART:20250309T080000
END:DAYLIGHT
BEGIN:STANDARD
TZOFFSETFROM:-0500
TZOFFSETTO:-0600
TZNAME:CST
DTSTART:20251102T070000
END:STANDARD
BEGIN:DAYLIGHT
TZOFFSETFROM:-0600
TZOFFSETTO:-0500
TZNAME:CDT
DTSTART:20260308T080000
END:DAYLIGHT
BEGIN:STANDARD
TZOFFSETFROM:-0500
TZOFFSETTO:-0600
TZNAME:CST
DTSTART:20261101T070000
END:STANDARD
BEGIN:DAYLIGHT
TZOFFSETFROM:-0600
TZOFFSETTO:-0500
TZNAME:CDT
DTSTART:20270314T080000
END:DAYLIGHT
BEGIN:STANDARD
TZOFFSETFROM:-0500
TZOFFSETTO:-0600
TZNAME:CST
DTSTART:20271107T070000
END:STANDARD
END:VTIMEZONE
BEGIN:VEVENT
DTSTART;TZID=America/Chicago:20260808T113000
DTEND;TZID=America/Chicago:20260808T143000
DTSTAMP:20260422T004619
CREATED:20260420T202238Z
LAST-MODIFIED:20260420T213351Z
UID:10000213-1786188600-1786199400@msviewsandnews.org
SUMMARY:MS Symptoms Management and Bettering your Movement - A Compass to MS Care event - DALLAS
DESCRIPTION:TO RSVP\, for this “In-Person” program\,\nPLEASE Click the: Orange RSVP ‘Going’ button\, shown below: \n \nClick HERE to View Flyer \nTravis Ehrhardt (Personal Trainer):\nTopics:\n * Bettering your Movement\, Balance and Strength\n* Helping people living with MS to take the next steps toward moving well\, living strong and transforming your quality of life.\n* Techniques and Tips for better Balance and Strength\n““““““““““““““““““““““““ \nAdnan Subei\, D.O.\, FAAN:\nTopics:\n• MS Symptoms Management\n• Explaining PIRA\, RAW and other Acronyms pertaining to MS.\n• Risks vs. Benefits of High Efficacy Treatments\n————————————– \nDate: August 8\, 2026\n10:40am CT – Registration    /   11:30am CT – Program Begins\nComplimentary Lunch to be served during the program\n………………………………………………………………………………………………………. \nLocation: Hilton DFW Conference Ctr\n1800 Hwy. 26E\, Grapevine\, Texas 76051\n=============================== \nTO RSVP\, PLEASE Click the: Orange RSVP ‘Going’ button\, Showing below. \n— If registering for yourself and a Guest\, please make sure to click on (2) people\n— If you do not have internet\, please call (888) 871-1664 – Ext 105\n— Program limited to the Patient plus (1) Guest\n** No Walk-ins will be permitted – all must be registered in advance of the event.\n==========================================
URL:https://msviewsandnews.org/event/compass-dallas-tx/
LOCATION:Hilton DFW Conference Ctr\, 1800 Hwy. 26E\, Grapevine\, TX\, 76051\, United States
CATEGORIES:In-Person
ORGANIZER;CN="MS VIEWS AND NEWS":MAILTO:stuart@msvn.org
END:VEVENT
END:VCALENDAR